BEGIN:VCALENDAR
PRODID:-//Microsoft Corporation//Outlook 14.0 MIMEDIR//EN
VERSION:2.0
METHOD:PUBLISH
X-MS-OLK-FORCEINSPECTOROPEN:TRUE
BEGIN:VTIMEZONE
TZID:Eastern Standard Time
BEGIN:STANDARD
DTSTART:16011104T020000
RRULE:FREQ=YEARLY;BYDAY=1SU;BYMONTH=11
TZOFFSETFROM:-0400
TZOFFSETTO:-0500
END:STANDARD
BEGIN:DAYLIGHT
DTSTART:16010311T020000
RRULE:FREQ=YEARLY;BYDAY=2SU;BYMONTH=3
TZOFFSETFROM:-0500
TZOFFSETTO:-0400
END:DAYLIGHT
END:VTIMEZONE
BEGIN:VEVENT
CLASS:PUBLIC
CREATED:20201102T181956Z
DESCRIPTION:Thank you for registering to the virtual session entitled "New 
	Developments in the GLP-1RA's and Insights from the 2020 Diabetes Canada G
	uidelines”\nDate:	Wednesday\, December 16th\, 2020\nTime:	  7:00 p.m. to
	 9:15 p.m. EST\n\nInstructions to connect to the virtual session:\nYou may
	 access the Virtual Conference platform through the link on our conference
	 website below and entering the password: newglp\nhttps://events.myconfere
	ncesuite.com/New_Developments_in_the_GLP-1RA/page/VirtualConferencePlatfor
	m\nOnce you are on this link\, please click the “View the Webcast” but
	ton .\nWhen joining the webcast\, please login using your full name. This 
	is required to confirm your attendance.\nYou may participate in the progra
	m on any web browser\, however\, Google Chrome is recommended and no other
	 software is necessary. Once logged in\, there is a link that will allow y
	ou to test your system – and should you have any issues\, please click o
	n “Technical Support” on the bottom right hand side of the page\, and 
	we will assist you.\nProgram Agenda\nOpening Remarks\nDr. Lawrence Leiter 
	– 5 min\nMaking GLP-1 RAs orally bioavailable\nDr. Ronald Goldenberg –
	 15 min\nContrasting the glycemic and renal efficacy and safety of oral an
	d injectable GLP-1 RAs\nDr. Lawrence Leiter – 20 min\nGLP-1 RAs and weig
	ht loss\nDr. Sue Pedersen – 20 min\nGLP-1 RAs and cardiovascular outcome
	s\nDr. Subodh Verma – 20 min\nFrom clinical trials to practical applicat
	ion:  Who is the right patient for GLP-1RA therapy?\nDr. Irene Hramiak– 
	20 min\nInteractive Discussion	\nAll Faculty – 35 min\nClosing Remarks\n
	Dr. Subodh Verma \nIf you have any questions please contact:\nS & L Soluti
	ons\nPhone: 647-462-1138\nEmail: info@slsolutionsevents.ca\n\n
DTEND;TZID="Eastern Standard Time":20201216T211500
DTSTAMP:20201102T181956Z
DTSTART;TZID="Eastern Standard Time":20201216T190000
LAST-MODIFIED:20201102T181956Z
LOCATION:Virtual Session - Details below
PRIORITY:5
SEQUENCE:0
SUMMARY;LANGUAGE=en-ca:New Developments in the GLP-1RA's and Insights from 
	the 2020 Diabetes Canada Guidelines
TRANSP:OPAQUE
UID:040000008200E00074C5B7101A82E0080000000040A6ABEFF6AED601000000000000000
	01000000090319BDCD18CC846B8148E124248ACB0
X-ALT-DESC;FMTTYPE=text/html:<!DOCTYPE HTML PUBLIC "-//W3C//DTD HTML 3.2//E
	N">\n<HTML>\n<HEAD>\n<META NAME="Generator" CONTENT="MS Exchange Server ve
	rsion 14.02.5004.000">\n<TITLE></TITLE>\n</HEAD>\n<BODY>\n<!-- Converted f
	rom text/rtf format -->\n\n<P DIR=LTR><SPAN LANG="en-ca"></SPAN><SPAN LANG
	="en-ca"><FONT COLOR="#333333" FACE="Calibri">T</FONT></SPAN><SPAN LANG="e
	n-ca"></SPAN><SPAN LANG="en-ca"><FONT COLOR="#333333" FACE="Calibri">hank 
	you for registering to the virtual session entitled</FONT></SPAN><SPAN LAN
	G="en-ca"><B></B></SPAN><B><SPAN LANG="en-ca"> <FONT COLOR="#333333" FACE=
	"Calibri">&quot\;New Developments in the GLP-1RA's and Insights from the 2
	020 Diabetes Canada Guidelines”</FONT></SPAN></B><SPAN LANG="en-ca"></SP
	AN><SPAN LANG="en-ca"></SPAN></P>\n\n<P DIR=LTR><SPAN LANG="en-ca"><B></B>
	</SPAN><B><SPAN LANG="en-ca"><FONT COLOR="#333333" FACE="Calibri">Date:</F
	ONT></SPAN></B><SPAN LANG="en-ca"></SPAN><SPAN LANG="en-ca">&nbsp\;&nbsp\;
	</SPAN><SPAN LANG="en-ca"></SPAN><SPAN LANG="en-ca"> <FONT COLOR="#333333"
	 FACE="Calibri">Wednes</FONT></SPAN><SPAN LANG="en-ca"></SPAN><SPAN LANG="
	en-ca"><FONT COLOR="#333333" FACE="Calibri">day\, December 16th\, 2020</FO
	NT></SPAN></P>\n\n<P DIR=LTR><SPAN LANG="en-ca"><B></B></SPAN><B><SPAN LAN
	G="en-ca"><FONT COLOR="#333333" FACE="Calibri">Time:</FONT></SPAN></B><SPA
	N LANG="en-ca"></SPAN><SPAN LANG="en-ca">&nbsp\;&nbsp\;</SPAN><SPAN LANG="
	en-ca"></SPAN><SPAN LANG="en-ca"> <FONT COLOR="#333333" FACE="Calibri">&nb
	sp\;</FONT></SPAN><SPAN LANG="en-ca"></SPAN><SPAN LANG="en-ca"> <FONT COLO
	R="#333333" FACE="Calibri">7:00 p.m. to 9:</FONT></SPAN><SPAN LANG="en-ca"
	></SPAN><SPAN LANG="en-ca"><FONT COLOR="#333333" FACE="Calibri">15</FONT><
	/SPAN><SPAN LANG="en-ca"></SPAN><SPAN LANG="en-ca"><FONT COLOR="#333333" F
	ACE="Calibri"> p.m. EST</FONT></SPAN></P>\n\n<P DIR=LTR><SPAN LANG="en-ca
	"></SPAN><SPAN LANG="en-ca"></SPAN></P>\n\n<P DIR=LTR><SPAN LANG="en-ca"><
	B><U><FONT FACE="Calibri">Instructions to connect to the virtual session:<
	/FONT></U></B></SPAN><SPAN LANG="en-ca"><U></U></SPAN><U><SPAN LANG="en-ca
	"></SPAN></U></P>\n\n<P DIR=LTR ALIGN=JUSTIFY><SPAN LANG="en-ca"></SPAN><S
	PAN LANG="en-ca"></SPAN><SPAN LANG="en-ca"><FONT COLOR="#333333" FACE="Cal
	ibri">You may access the Virtual Conference platform through the link on o
	ur conference website below and entering the password:</FONT></SPAN><SPAN 
	LANG="en-ca"><B></B></SPAN><SPAN LANG="en-ca"><B> <FONT COLOR="#333333" FA
	CE="Calibri">newglp</FONT></B></SPAN><SPAN LANG="en-ca"></SPAN><SPAN LANG=
	"en-ca"></SPAN></P>\n\n<P DIR=LTR ALIGN=JUSTIFY><SPAN LANG="en-ca"></SPAN>
	<A HREF="https://events.myconferencesuite.com/New_Developments_in_the_GLP-
	1RA/page/VirtualConferencePlatform"><SPAN LANG="en-ca"></SPAN><SPAN LANG="
	en-ca"><U><FONT COLOR="#0000FF" FACE="Calibri">https://events.myconference
	suite.com/New_Developments_in_the_GLP-1RA/page/VirtualConferencePlatform</
	FONT></U></SPAN><SPAN LANG="en-ca"></SPAN></A><SPAN LANG="en-ca"></SPAN><S
	PAN LANG="en-ca"></SPAN></P>\n\n<P DIR=LTR ALIGN=JUSTIFY><SPAN LANG="en-ca
	"></SPAN><SPAN LANG="en-ca"><FONT COLOR="#333333" FACE="Calibri">Once you 
	are on this link\, please click the “View the Webcast” button .</FONT>
	</SPAN><SPAN LANG="en-ca"><I></I></SPAN><SPAN LANG="en-ca"><I></I></SPAN><
	/P>\n\n<P DIR=LTR ALIGN=JUSTIFY><SPAN LANG="en-ca"></SPAN><SPAN LANG="en-c
	a"><FONT COLOR="#333333" FACE="Calibri">When joining the webcast\, please 
	login using your</FONT></SPAN><SPAN LANG="en-ca"><B></B></SPAN><SPAN LANG=
	"en-ca"><B> <FONT COLOR="#333333" FACE="Calibri">full name</FONT></B></SPA
	N><SPAN LANG="en-ca"></SPAN><SPAN LANG="en-ca"><FONT COLOR="#333333" FACE=
	"Calibri">. This is required to confirm your attendance.</FONT></SPAN></P>
	\n\n<P DIR=LTR><SPAN LANG="en-ca"></SPAN><SPAN LANG="en-ca"><FONT COLOR="#
	333333" FACE="Calibri">You may participate in the program on any web brows
	er\, however\, Google Chrome is recommended and no other software is neces
	sary. Once logged in\, there is a link that will allow you to test your sy
	stem – and should you have any issues\, please click on “Technical Sup
	port” on the bottom right hand side of the page\, and we will assist you
	.</FONT></SPAN></P>\n\n<P DIR=LTR><SPAN LANG="en-ca"></SPAN><SPAN LANG="en
	-ca"><B><U><FONT FACE="Calibri">Program Agenda</FONT></U></B></SPAN></P>\n
	\n<P DIR=LTR><SPAN LANG="en-ca"><B><FONT FACE="Calibri">Opening Remarks</F
	ONT></B></SPAN></P>\n\n<P DIR=LTR><SPAN LANG="en-ca"><FONT FACE="Calibri">
	Dr. Lawrence Leiter – 5 min</FONT></SPAN></P>\n\n<P DIR=LTR><SPAN LANG="
	en-ca"><B><FONT FACE="Calibri">Making GLP-1 RAs orally bioavailable</FONT>
	</B></SPAN></P>\n\n<P DIR=LTR><SPAN LANG="en-ca"><FONT FACE="Calibri">Dr. 
	Ronald Goldenberg – 15 min</FONT></SPAN></P>\n\n<P DIR=LTR><SPAN LANG="e
	n-ca"><B><FONT FACE="Calibri">Contrasting the glycemic and renal efficacy 
	and safety of oral and injectable GLP-1 RAs</FONT></B></SPAN></P>\n\n<P DI
	R=LTR><SPAN LANG="en-ca"><FONT FACE="Calibri">Dr. Lawrence Leiter – 20 m
	in</FONT></SPAN></P>\n\n<P DIR=LTR><SPAN LANG="en-ca"><B><FONT FACE="Calib
	ri">GLP-1 RAs and weight loss</FONT></B></SPAN></P>\n\n<P DIR=LTR><SPAN LA
	NG="en-ca"><FONT FACE="Calibri">Dr. Sue Pedersen – 20 min</FONT></SPAN><
	/P>\n\n<P DIR=LTR><SPAN LANG="en-ca"><B><FONT FACE="Calibri">GLP-1 RAs and
	 cardiovascular outcomes</FONT></B></SPAN></P>\n\n<P DIR=LTR><SPAN LANG="e
	n-ca"><FONT FACE="Calibri">Dr. Subodh Verma – 20 min</FONT></SPAN></P>\n
	\n<P DIR=LTR><SPAN LANG="en-ca"><B><FONT FACE="Calibri">From clinical tria
	ls to practical application:&nbsp\; Who is the right patient for GLP-1RA t
	herapy?</FONT></B></SPAN></P>\n\n<P DIR=LTR><SPAN LANG="en-ca"><FONT FACE=
	"Calibri">Dr. Irene Hramiak– 20 min</FONT></SPAN></P>\n\n<P DIR=LTR><SPA
	N LANG="en-ca"><B><FONT FACE="Calibri">Interactive Discussion&nbsp\; </FON
	T></B></SPAN></P>\n\n<P DIR=LTR><SPAN LANG="en-ca"><FONT FACE="Calibri">Al
	l Faculty –</FONT></SPAN><SPAN LANG="en-ca"> <FONT FACE="Calibri">35</FO
	NT></SPAN><SPAN LANG="en-ca"><FONT FACE="Calibri"> min</FONT></SPAN></P>\n
	\n<P DIR=LTR><SPAN LANG="en-ca"><B><FONT FACE="Calibri">Closing Remarks</F
	ONT></B></SPAN></P>\n\n<P DIR=LTR><SPAN LANG="en-ca"><FONT FACE="Calibri">
	Dr. Subodh Verma </FONT></SPAN></P>\n\n<P DIR=LTR><SPAN LANG="en-ca"></SPA
	N><SPAN LANG="en-ca"><B></B></SPAN><SPAN LANG="en-ca"><B><FONT COLOR="#333
	333" FACE="Calibri">If you have any questions please contact:</FONT></B></
	SPAN><SPAN LANG="en-ca"></SPAN><SPAN LANG="en-ca"></SPAN></P>\n\n<P DIR=LT
	R><SPAN LANG="en-ca"><FONT COLOR="#333333" FACE="Calibri">S &amp\; L Solut
	ions<BR>\n</FONT></SPAN><SPAN LANG="en-ca"><B></B></SPAN><SPAN LANG="en-ca
	"><B><FONT COLOR="#333333" FACE="Calibri">Phone:</FONT></B></SPAN><SPAN LA
	NG="en-ca"></SPAN><SPAN LANG="en-ca"><FONT COLOR="#333333" FACE="Calibri">
	 647-462-1138<BR>\n</FONT></SPAN><SPAN LANG="en-ca"><B></B></SPAN><SPAN LA
	NG="en-ca"><B><FONT COLOR="#333333" FACE="Calibri">Email:</FONT></B></SPAN
	><SPAN LANG="en-ca"></SPAN><SPAN LANG="en-ca"><FONT COLOR="#333333" FACE="
	Calibri"></FONT></SPAN><SPAN LANG="en-ca"> </SPAN><A HREF="mailto:info@sls
	olutionsevents.ca"><SPAN LANG="en-ca"></SPAN><SPAN LANG="en-ca"><U><FONT C
	OLOR="#0000FF" FACE="Calibri">info@slsolutionsevents.ca</FONT></U></SPAN><
	SPAN LANG="en-ca"></SPAN></A><SPAN LANG="en-ca"></SPAN><SPAN LANG="en-ca">
	</SPAN></P>\n\n<P DIR=LTR><SPAN LANG="en-ca"></SPAN><SPAN LANG="en-ca"></S
	PAN></P>\n\n</BODY>\n</HTML>
X-MICROSOFT-CDO-BUSYSTATUS:BUSY
X-MICROSOFT-CDO-IMPORTANCE:1
X-MICROSOFT-DISALLOW-COUNTER:FALSE
X-MS-OLK-AUTOFILLLOCATION:FALSE
X-MS-OLK-CONFTYPE:0
BEGIN:VALARM
TRIGGER:-PT15M
ACTION:DISPLAY
DESCRIPTION:Reminder
END:VALARM
END:VEVENT
END:VCALENDAR
